BEGIN:VCALENDAR
VERSION:2.0
PRODID:-//pretix//My_pretix_installation//
BEGIN:VTIMEZONE
TZID:Europe/Berlin
BEGIN:STANDARD
DTSTART:20001029T040000
RRULE:FREQ=YEARLY;BYDAY=-1SU;BYMONTH=10
TZNAME:CET
TZOFFSETFROM:+0200
TZOFFSETTO:+0100
END:STANDARD
BEGIN:DAYLIGHT
DTSTART:20000326T030000
RRULE:FREQ=YEARLY;BYDAY=-1SU;BYMONTH=3
TZNAME:CEST
TZOFFSETFROM:+0100
TZOFFSETTO:+0200
END:DAYLIGHT
END:VTIMEZONE
BEGIN:VEVENT
UID:pretix-W3F-w3s2026-0@gettickets.web3summit.com
DTSTART;TZID=Europe/Berlin:20260618T100000
DTEND;TZID=Europe/Berlin:20260619T180000
DESCRIPTION:Tickets: https://gettickets.web3summit.com/W3F/w3s2026/\nOrgani
 zer: Web 3.0 Technologies Stiftung
DTSTAMP:20260424T155442Z
LOCATION:Funkhaus Berlin\, Nalepastrasse 18\, 12459 Berlin\, Germany
SUMMARY:Web3 Summit 2026
END:VEVENT
END:VCALENDAR
